BEGIN:VCALENDAR
VERSION:2.0
PRODID:spatie/icalendar-generator
DESCRIPTION:Évènements de Aumessas
X-WR-CALDESC:Évènements de Aumessas
REFRESH-INTERVAL;VALUE=DURATION:PT1440M
X-PUBLISHED-TTL:PT1440M
BEGIN:VTIMEZONE
TZID:Europe/Paris
BEGIN:DAYLIGHT
DTSTART:20240331T020000Z
TZOFFSETFROM:+0100
TZOFFSETTO:+0200
END:DAYLIGHT
BEGIN:STANDARD
DTSTART:20241027T030000Z
TZOFFSETFROM:+0200
TZOFFSETTO:+0100
END:STANDARD
BEGIN:DAYLIGHT
DTSTART:20250330T020000Z
TZOFFSETFROM:+0100
TZOFFSETTO:+0200
END:DAYLIGHT
END:VTIMEZONE
BEGIN:VTIMEZONE
TZID:UTC
BEGIN:STANDARD
DTSTART:20250729T141537Z
TZOFFSETFROM:+0000
TZOFFSETTO:+0000
END:STANDARD
END:VTIMEZONE
BEGIN:VEVENT
UID:18-16
DTSTAMP:20260425T141537Z
SUMMARY:JOURNEES DES METIERS D'ART
LOCATION:
ORGANIZER;CN=Mairie d'Aumessas:MAILTO:l.tarrou@aumessas.fr
DTSTART;TZID=Europe/Paris:20241116T140000
DTEND;TZID=Europe/Paris:20241116T180000
X-ALT-DESC;FMTTYPE=TEXT/HTML:Information complémentaire Point de restaurat
 ion : Dimanche 17 novembre à midi - entrée + plat + dessert (16 euros) R
 éservation au 06 51 60 40 73 Repas organisé par le Café de la Gare et d
 es bénévoles
CATEGORIES:General
URL;VALUE=URI:https://www.aumessas.fr/mc-events/journees-des-metiers-dart-2
 /
METHOD:PUBLISH
END:VEVENT
END:VCALENDAR